BEGIN:VCALENDAR
VERSION:2.0
PRODID:-//Filippo&#039;s - ECPv6.15.16//NONSGML v1.0//EN
CALSCALE:GREGORIAN
METHOD:PUBLISH
X-WR-CALNAME:Filippo&#039;s
X-ORIGINAL-URL:https://filipposenoteca.com
X-WR-CALDESC:Eventi per Filippo&#039;s
REFRESH-INTERVAL;VALUE=DURATION:PT1H
X-Robots-Tag:noindex
X-PUBLISHED-TTL:PT1H
BEGIN:VTIMEZONE
TZID:Europe/Rome
BEGIN:DAYLIGHT
TZOFFSETFROM:+0100
TZOFFSETTO:+0200
TZNAME:CEST
DTSTART:20240331T010000
END:DAYLIGHT
BEGIN:STANDARD
TZOFFSETFROM:+0200
TZOFFSETTO:+0100
TZNAME:CET
DTSTART:20241027T010000
END:STANDARD
BEGIN:DAYLIGHT
TZOFFSETFROM:+0100
TZOFFSETTO:+0200
TZNAME:CEST
DTSTART:20250330T010000
END:DAYLIGHT
BEGIN:STANDARD
TZOFFSETFROM:+0200
TZOFFSETTO:+0100
TZNAME:CET
DTSTART:20251026T010000
END:STANDARD
BEGIN:DAYLIGHT
TZOFFSETFROM:+0100
TZOFFSETTO:+0200
TZNAME:CEST
DTSTART:20260329T010000
END:DAYLIGHT
BEGIN:STANDARD
TZOFFSETFROM:+0200
TZOFFSETTO:+0100
TZNAME:CET
DTSTART:20261025T010000
END:STANDARD
END:VTIMEZONE
BEGIN:VEVENT
DTSTART;TZID=Europe/Rome:20251205T190000
DTEND;TZID=Europe/Rome:20251205T223000
DTSTAMP:20260419T200400
CREATED:20260117T052706Z
LAST-MODIFIED:20260117T052942Z
UID:5200-1764961200-1764973800@filipposenoteca.com
SUMMARY:40 Vendemmie di eccellenza
DESCRIPTION:Cena degustazione\nEcco il menù che abbiamo preparato per la cena celebrativa: non vediamo l’ora di condividere questa serata con voi 🥂 \nPer la cena i posti sono al completo.\nRestano disponibili le prenotazioni per l’aperitivo o per il dopo cena accompagnato da un po’ di musica e tanta bella energia 🎶✨🍷 \n📍Piazza Garibaldi 10/15 Vibo Valentia\n📞0963 472592
URL:https://filipposenoteca.com/evento/40-vendemmie-di-eccellenza/
LOCATION:Filippo’s\, Largo Giuseppe Garibaldi\, 10/15\, Vibo Valentia\, VV\, 89900\, Italy
CATEGORIES:Degustazioni
ATTACH;FMTTYPE=image/png:https://filipposenoteca.com/wp-content/uploads/2026/01/Insta05.png
END:VEVENT
END:VCALENDAR